Package: SparseArray Version: 1.0.12 Command: /Library/Frameworks/R.framework/Resources/bin/R CMD build --keep-empty-dirs --no-resave-data SparseArray StartedAt: 2023-10-15 21:31:26 -0400 (Sun, 15 Oct 2023) EndedAt: 2023-10-15 21:33:17 -0400 (Sun, 15 Oct 2023) EllapsedTime: 111.0 seconds RetCode: 0 Status: OK PackageFile: SparseArray_1.0.12.tar.gz PackageFileSize: 356.9 KiB