Package: Spaniel Version: 1.14.0 Command: F:\biocbuild\bbs-3.17-bioc\R\bin\R.exe CMD INSTALL Spaniel StartedAt: 2023-10-15 16:53:24 -0400 (Sun, 15 Oct 2023) EndedAt: 2023-10-15 16:54:08 -0400 (Sun, 15 Oct 2023) EllapsedTime: 44.1 seconds RetCode: 0 Status: OK