Package: Spaniel Version: 1.14.0 Command: chmod a+r Spaniel -R && F:\biocbuild\bbs-3.17-bioc\R\bin\R.exe CMD build --keep-empty-dirs --no-resave-data Spaniel StartedAt: 2023-10-15 22:31:05 -0400 (Sun, 15 Oct 2023) EndedAt: 2023-10-15 22:34:00 -0400 (Sun, 15 Oct 2023) EllapsedTime: 174.8 seconds RetCode: 0 Status: OK PackageFile: Spaniel_1.14.0.tar.gz PackageFileSize: 3.737 MiB