Package: Spaniel Version: 1.14.0 Command: /Library/Frameworks/R.framework/Resources/bin/R CMD build --keep-empty-dirs --no-resave-data Spaniel StartedAt: 2023-10-15 21:31:07 -0400 (Sun, 15 Oct 2023) EndedAt: 2023-10-15 21:36:42 -0400 (Sun, 15 Oct 2023) EllapsedTime: 335.2 seconds RetCode: 0 Status: OK PackageFile: Spaniel_1.14.0.tar.gz PackageFileSize: 3.865 MiB