Package: Spaniel Version: 1.14.0 Command: rm -rf Spaniel.buildbin-libdir && mkdir Spaniel.buildbin-libdir && /Users/biocbuild/BBS/utils/build-universal.sh Spaniel_1.14.0.tar.gz /Library/Frameworks/R.framework/Resources/bin/R Spaniel.buildbin-libdir StartedAt: 2023-10-16 10:16:03 -0400 (Mon, 16 Oct 2023) EndedAt: 2023-10-16 10:18:11 -0400 (Mon, 16 Oct 2023) EllapsedTime: 128.1 seconds RetCode: 0 Status: OK PackageFile: Spaniel_1.14.0.tgz PackageFileSize: 3.916 MiB