Package: SomaticSignatures Version: 2.36.0 Command: F:\biocbuild\bbs-3.17-bioc\R\bin\R.exe CMD INSTALL SomaticSignatures StartedAt: 2023-10-15 16:31:02 -0400 (Sun, 15 Oct 2023) EndedAt: 2023-10-15 16:32:04 -0400 (Sun, 15 Oct 2023) EllapsedTime: 62.5 seconds RetCode: 0 Status: OK