Package: SomaticSignatures Version: 2.36.0 Command: /home/biocbuild/bbs-3.17-bioc/R/bin/R CMD check --install=check:SomaticSignatures.install-out.txt --library=/home/biocbuild/bbs-3.17-bioc/R/site-library --timings SomaticSignatures_2.36.0.tar.gz StartedAt: 2023-10-16 01:16:01 -0400 (Mon, 16 Oct 2023) EndedAt: 2023-10-16 01:24:47 -0400 (Mon, 16 Oct 2023) EllapsedTime: 525.9 seconds RetCode: 0 Status: OK CheckDir: SomaticSignatures.Rcheck Warnings: 0