Package: SomaticSignatures Version: 2.36.0 Command: /home/biocbuild/bbs-3.17-bioc/R/bin/R CMD build --keep-empty-dirs --no-resave-data SomaticSignatures StartedAt: 2023-10-15 18:36:25 -0400 (Sun, 15 Oct 2023) EndedAt: 2023-10-15 18:39:01 -0400 (Sun, 15 Oct 2023) EllapsedTime: 156.0 seconds RetCode: 0 Status: OK PackageFile: SomaticSignatures_2.36.0.tar.gz PackageFileSize: 1.859 MiB