Package: SingleR Version: 2.2.0 Command: chmod a+r SingleR -R && F:\biocbuild\bbs-3.17-bioc\R\bin\R.exe CMD build --keep-empty-dirs --no-resave-data SingleR StartedAt: 2023-10-15 22:26:40 -0400 (Sun, 15 Oct 2023) EndedAt: 2023-10-15 22:29:59 -0400 (Sun, 15 Oct 2023) EllapsedTime: 198.7 seconds RetCode: 0 Status: OK PackageFile: SingleR_2.2.0.tar.gz PackageFileSize: 554.7 KiB