Package: SingleR Version: 2.2.0 Command: /home/biocbuild/bbs-3.17-bioc/R/bin/R CMD build --keep-empty-dirs --no-resave-data SingleR StartedAt: 2023-10-15 18:34:41 -0400 (Sun, 15 Oct 2023) EndedAt: 2023-10-15 18:37:40 -0400 (Sun, 15 Oct 2023) EllapsedTime: 179.7 seconds RetCode: 0 Status: OK PackageFile: SingleR_2.2.0.tar.gz PackageFileSize: 729.2 KiB