Package: SingleR Version: 2.2.0 Command: /Library/Frameworks/R.framework/Resources/bin/R CMD check --install=check:SingleR.install-out.txt --library=/Library/Frameworks/R.framework/Resources/library --no-vignettes --timings SingleR_2.2.0.tar.gz StartedAt: 2023-10-16 07:13:38 -0400 (Mon, 16 Oct 2023) EndedAt: 2023-10-16 07:26:07 -0400 (Mon, 16 Oct 2023) EllapsedTime: 749.9 seconds RetCode: 0 Status: WARNINGS CheckDir: SingleR.Rcheck Warnings: 1