Package: SingleR Version: 2.2.0 Command: /Library/Frameworks/R.framework/Resources/bin/R CMD build --keep-empty-dirs --no-resave-data SingleR StartedAt: 2023-10-15 21:24:03 -0400 (Sun, 15 Oct 2023) EndedAt: 2023-10-15 21:32:23 -0400 (Sun, 15 Oct 2023) EllapsedTime: 500.1 seconds RetCode: 0 Status: OK PackageFile: SingleR_2.2.0.tar.gz PackageFileSize: 751.5 KiB