Package: SingleR Version: 2.2.0 Command: rm -rf SingleR.buildbin-libdir && mkdir SingleR.buildbin-libdir && /Users/biocbuild/BBS/utils/build-universal.sh SingleR_2.2.0.tar.gz /Library/Frameworks/R.framework/Resources/bin/R SingleR.buildbin-libdir StartedAt: 2023-10-16 10:14:49 -0400 (Mon, 16 Oct 2023) EndedAt: 2023-10-16 10:20:03 -0400 (Mon, 16 Oct 2023) EllapsedTime: 313.7 seconds RetCode: 0 Status: OK PackageFile: SingleR_2.2.0.tgz PackageFileSize: 1.043 MiB