Package: SingleMoleculeFootprinting Version: 1.8.0 Command: F:\biocbuild\bbs-3.17-bioc\R\bin\R.exe CMD INSTALL SingleMoleculeFootprinting StartedAt: 2023-10-15 16:23:54 -0400 (Sun, 15 Oct 2023) EndedAt: 2023-10-15 16:24:43 -0400 (Sun, 15 Oct 2023) EllapsedTime: 49.6 seconds RetCode: 0 Status: OK