Package: SingleMoleculeFootprinting Version: 1.8.0 Command: /home/biocbuild/bbs-3.17-bioc/R/bin/R CMD check --install=check:SingleMoleculeFootprinting.install-out.txt --library=/home/biocbuild/bbs-3.17-bioc/R/site-library --timings SingleMoleculeFootprinting_1.8.0.tar.gz StartedAt: 2023-10-16 01:09:49 -0400 (Mon, 16 Oct 2023) EndedAt: 2023-10-16 01:17:49 -0400 (Mon, 16 Oct 2023) EllapsedTime: 479.6 seconds RetCode: 0 Status: OK CheckDir: SingleMoleculeFootprinting.Rcheck Warnings: 0