Package: SingleMoleculeFootprinting Version: 1.8.0 Command: /Library/Frameworks/R.framework/Resources/bin/R CMD check --install=check:SingleMoleculeFootprinting.install-out.txt --library=/Library/Frameworks/R.framework/Resources/library --no-vignettes --timings SingleMoleculeFootprinting_1.8.0.tar.gz StartedAt: 2023-10-02 07:24:51 -0400 (Mon, 02 Oct 2023) EndedAt: 2023-10-02 07:37:38 -0400 (Mon, 02 Oct 2023) EllapsedTime: 766.3 seconds RetCode: 0 Status: OK CheckDir: SingleMoleculeFootprinting.Rcheck Warnings: 0