Package: SingleMoleculeFootprinting Version: 1.8.0 Command: /Library/Frameworks/R.framework/Resources/bin/R CMD build --keep-empty-dirs --no-resave-data SingleMoleculeFootprinting StartedAt: 2023-10-15 21:23:54 -0400 (Sun, 15 Oct 2023) EndedAt: 2023-10-15 21:31:26 -0400 (Sun, 15 Oct 2023) EllapsedTime: 451.7 seconds RetCode: 1 Status: ERROR PackageFile: None PackageFileSize: NA