Package: SingleCellSignalR Version: 1.12.0 Command: chmod a+r SingleCellSignalR -R && F:\biocbuild\bbs-3.17-bioc\R\bin\R.exe CMD build --keep-empty-dirs --no-resave-data SingleCellSignalR StartedAt: 2023-10-15 22:26:03 -0400 (Sun, 15 Oct 2023) EndedAt: 2023-10-15 22:27:45 -0400 (Sun, 15 Oct 2023) EllapsedTime: 101.4 seconds RetCode: 0 Status: OK PackageFile: SingleCellSignalR_1.12.0.tar.gz PackageFileSize: 3.98 MiB