Package: SingleCellSignalR Version: 1.12.0 Command: rm -rf SingleCellSignalR.buildbin-libdir && mkdir SingleCellSignalR.buildbin-libdir && F:\biocbuild\bbs-3.17-bioc\R\bin\R.exe CMD INSTALL --build --library=SingleCellSignalR.buildbin-libdir SingleCellSignalR_1.12.0.tar.gz StartedAt: 2023-10-16 09:33:12 -0400 (Mon, 16 Oct 2023) EndedAt: 2023-10-16 09:34:00 -0400 (Mon, 16 Oct 2023) EllapsedTime: 48.5 seconds RetCode: 0 Status: OK PackageFile: SingleCellSignalR_1.12.0.zip PackageFileSize: 5.828 MiB