Package: SingleCellSignalR Version: 1.12.0 Command: /home/biocbuild/bbs-3.17-bioc/R/bin/R CMD check --install=check:SingleCellSignalR.install-out.txt --library=/home/biocbuild/bbs-3.17-bioc/R/site-library --timings SingleCellSignalR_1.12.0.tar.gz StartedAt: 2023-10-16 01:09:30 -0400 (Mon, 16 Oct 2023) EndedAt: 2023-10-16 01:13:52 -0400 (Mon, 16 Oct 2023) EllapsedTime: 261.7 seconds RetCode: 0 Status: WARNINGS CheckDir: SingleCellSignalR.Rcheck Warnings: 2