Package: SingleCellSignalR Version: 1.12.0 Command: /home/biocbuild/bbs-3.17-bioc/R/bin/R CMD build --keep-empty-dirs --no-resave-data SingleCellSignalR StartedAt: 2023-10-15 18:33:51 -0400 (Sun, 15 Oct 2023) EndedAt: 2023-10-15 18:35:10 -0400 (Sun, 15 Oct 2023) EllapsedTime: 79.2 seconds RetCode: 0 Status: OK PackageFile: SingleCellSignalR_1.12.0.tar.gz PackageFileSize: 4.341 MiB