Package: SingleCellSignalR Version: 1.12.0 Command: /Library/Frameworks/R.framework/Resources/bin/R CMD check --install=check:SingleCellSignalR.install-out.txt --library=/Library/Frameworks/R.framework/Resources/library --no-vignettes --timings SingleCellSignalR_1.12.0.tar.gz StartedAt: 2023-10-16 07:13:31 -0400 (Mon, 16 Oct 2023) EndedAt: 2023-10-16 07:22:17 -0400 (Mon, 16 Oct 2023) EllapsedTime: 525.9 seconds RetCode: 0 Status: WARNINGS CheckDir: SingleCellSignalR.Rcheck Warnings: 2