Package: SingleCellSignalR Version: 1.12.0 Command: /Library/Frameworks/R.framework/Resources/bin/R CMD build --keep-empty-dirs --no-resave-data SingleCellSignalR StartedAt: 2023-10-15 21:23:29 -0400 (Sun, 15 Oct 2023) EndedAt: 2023-10-15 21:27:37 -0400 (Sun, 15 Oct 2023) EllapsedTime: 247.9 seconds RetCode: 0 Status: OK PackageFile: SingleCellSignalR_1.12.0.tar.gz PackageFileSize: 4.254 MiB