Package: SingleCellExperiment Version: 1.22.0 Command: chmod a+r SingleCellExperiment -R && F:\biocbuild\bbs-3.17-bioc\R\bin\R.exe CMD build --keep-empty-dirs --no-resave-data SingleCellExperiment StartedAt: 2023-10-15 22:25:45 -0400 (Sun, 15 Oct 2023) EndedAt: 2023-10-15 22:27:15 -0400 (Sun, 15 Oct 2023) EllapsedTime: 89.5 seconds RetCode: 0 Status: OK PackageFile: SingleCellExperiment_1.22.0.tar.gz PackageFileSize: 962.4 KiB