Package: SingleCellExperiment Version: 1.22.0 Command: rm -rf SingleCellExperiment.buildbin-libdir && mkdir SingleCellExperiment.buildbin-libdir && F:\biocbuild\bbs-3.17-bioc\R\bin\R.exe CMD INSTALL --build --library=SingleCellExperiment.buildbin-libdir SingleCellExperiment_1.22.0.tar.gz StartedAt: 2023-10-16 09:33:10 -0400 (Mon, 16 Oct 2023) EndedAt: 2023-10-16 09:33:55 -0400 (Mon, 16 Oct 2023) EllapsedTime: 44.5 seconds RetCode: 0 Status: OK PackageFile: SingleCellExperiment_1.22.0.zip PackageFileSize: 1.874 MiB