Package: SingleCellExperiment Version: 1.22.0 Command: /Library/Frameworks/R.framework/Resources/bin/R CMD build --keep-empty-dirs --no-resave-data SingleCellExperiment StartedAt: 2023-10-15 21:23:22 -0400 (Sun, 15 Oct 2023) EndedAt: 2023-10-15 21:27:17 -0400 (Sun, 15 Oct 2023) EllapsedTime: 235.1 seconds RetCode: 0 Status: OK PackageFile: SingleCellExperiment_1.22.0.tar.gz PackageFileSize: 961.6 KiB