Package: SingleCellExperiment Version: 1.22.0 Command: rm -rf SingleCellExperiment.buildbin-libdir && mkdir SingleCellExperiment.buildbin-libdir && /Users/biocbuild/BBS/utils/build-universal.sh SingleCellExperiment_1.22.0.tar.gz /Library/Frameworks/R.framework/Resources/bin/R SingleCellExperiment.buildbin-libdir StartedAt: 2023-10-16 10:14:46 -0400 (Mon, 16 Oct 2023) EndedAt: 2023-10-16 10:16:05 -0400 (Mon, 16 Oct 2023) EllapsedTime: 79.3 seconds RetCode: 0 Status: OK PackageFile: SingleCellExperiment_1.22.0.tgz PackageFileSize: 1.862 MiB