Package: SimFFPE Version: 1.12.0 Command: F:\biocbuild\bbs-3.17-bioc\R\bin\R.exe CMD INSTALL SimFFPE StartedAt: 2023-10-15 16:07:42 -0400 (Sun, 15 Oct 2023) EndedAt: 2023-10-15 16:08:00 -0400 (Sun, 15 Oct 2023) EllapsedTime: 17.4 seconds RetCode: 0 Status: OK