Package: SimFFPE Version: 1.12.0 Command: rm -rf SimFFPE.buildbin-libdir && mkdir SimFFPE.buildbin-libdir && F:\biocbuild\bbs-3.17-bioc\R\bin\R.exe CMD INSTALL --build --library=SimFFPE.buildbin-libdir SimFFPE_1.12.0.tar.gz StartedAt: 2023-10-16 09:32:57 -0400 (Mon, 16 Oct 2023) EndedAt: 2023-10-16 09:33:18 -0400 (Mon, 16 Oct 2023) EllapsedTime: 21.1 seconds RetCode: 0 Status: OK PackageFile: SimFFPE_1.12.0.zip PackageFileSize: 801.4 KiB