Package: SimFFPE Version: 1.12.0 Command: /Library/Frameworks/R.framework/Resources/bin/R CMD check --install=check:SimFFPE.install-out.txt --library=/Library/Frameworks/R.framework/Resources/library --no-vignettes --timings SimFFPE_1.12.0.tar.gz StartedAt: 2023-10-16 07:11:27 -0400 (Mon, 16 Oct 2023) EndedAt: 2023-10-16 07:23:02 -0400 (Mon, 16 Oct 2023) EllapsedTime: 694.7 seconds RetCode: 0 Status: OK CheckDir: SimFFPE.Rcheck Warnings: 0