Package: SimFFPE Version: 1.12.0 Command: rm -rf SimFFPE.buildbin-libdir && mkdir SimFFPE.buildbin-libdir && /Users/biocbuild/BBS/utils/build-universal.sh SimFFPE_1.12.0.tar.gz /Library/Frameworks/R.framework/Resources/bin/R SimFFPE.buildbin-libdir StartedAt: 2023-10-16 10:14:34 -0400 (Mon, 16 Oct 2023) EndedAt: 2023-10-16 10:15:27 -0400 (Mon, 16 Oct 2023) EllapsedTime: 52.5 seconds RetCode: 0 Status: OK PackageFile: SimFFPE_1.12.0.tgz PackageFileSize: 807.4 KiB