Package: SimBu Version: 1.2.0 Command: rm -rf SimBu.buildbin-libdir && mkdir SimBu.buildbin-libdir && F:\biocbuild\bbs-3.17-bioc\R\bin\R.exe CMD INSTALL --build --library=SimBu.buildbin-libdir SimBu_1.2.0.tar.gz StartedAt: 2023-10-16 09:32:51 -0400 (Mon, 16 Oct 2023) EndedAt: 2023-10-16 09:33:12 -0400 (Mon, 16 Oct 2023) EllapsedTime: 21.2 seconds RetCode: 0 Status: OK PackageFile: SimBu_1.2.0.zip PackageFileSize: 226.5 KiB