Package: SimBu Version: 1.2.0 Command: /home/biocbuild/bbs-3.17-bioc/R/bin/R CMD INSTALL SimBu StartedAt: 2023-10-15 15:38:44 -0400 (Sun, 15 Oct 2023) EndedAt: 2023-10-15 15:38:49 -0400 (Sun, 15 Oct 2023) EllapsedTime: 5.1 seconds RetCode: 0 Status: OK