Package: SimBu Version: 1.2.0 Command: /home/biocbuild/bbs-3.17-bioc/R/bin/R CMD build --keep-empty-dirs --no-resave-data SimBu StartedAt: 2023-10-15 18:33:17 -0400 (Sun, 15 Oct 2023) EndedAt: 2023-10-15 18:33:58 -0400 (Sun, 15 Oct 2023) EllapsedTime: 41.1 seconds RetCode: 0 Status: OK PackageFile: SimBu_1.2.0.tar.gz PackageFileSize: 186.8 KiB