Package: SimBu Version: 1.2.0 Command: /Library/Frameworks/R.framework/Resources/bin/R CMD INSTALL SimBu StartedAt: 2023-10-15 16:09:42 -0400 (Sun, 15 Oct 2023) EndedAt: 2023-10-15 16:10:01 -0400 (Sun, 15 Oct 2023) EllapsedTime: 19.0 seconds RetCode: 0 Status: OK