Package: SimBu Version: 1.2.0 Command: rm -rf SimBu.buildbin-libdir && mkdir SimBu.buildbin-libdir && /Users/biocbuild/BBS/utils/build-universal.sh SimBu_1.2.0.tar.gz /Library/Frameworks/R.framework/Resources/bin/R SimBu.buildbin-libdir StartedAt: 2023-10-16 10:14:24 -0400 (Mon, 16 Oct 2023) EndedAt: 2023-10-16 10:14:46 -0400 (Mon, 16 Oct 2023) EllapsedTime: 21.7 seconds RetCode: 0 Status: OK PackageFile: SimBu_1.2.0.tgz PackageFileSize: 293.4 KiB