Package: SimBindProfiles Version: 1.38.0 Command: /home/biocbuild/bbs-3.17-bioc/R/bin/R CMD check --install=check:SimBindProfiles.install-out.txt --library=/home/biocbuild/bbs-3.17-bioc/R/site-library --timings SimBindProfiles_1.38.0.tar.gz StartedAt: 2023-10-16 01:08:10 -0400 (Mon, 16 Oct 2023) EndedAt: 2023-10-16 01:11:22 -0400 (Mon, 16 Oct 2023) EllapsedTime: 192.2 seconds RetCode: 0 Status: OK CheckDir: SimBindProfiles.Rcheck Warnings: 0