Package: SimBindProfiles Version: 1.38.0 Command: /Library/Frameworks/R.framework/Resources/bin/R CMD build --keep-empty-dirs --no-resave-data SimBindProfiles StartedAt: 2023-10-15 21:22:23 -0400 (Sun, 15 Oct 2023) EndedAt: 2023-10-15 21:24:20 -0400 (Sun, 15 Oct 2023) EllapsedTime: 117.3 seconds RetCode: 0 Status: OK PackageFile: SimBindProfiles_1.38.0.tar.gz PackageFileSize: 1.833 MiB