Package: SigsPack Version: 1.14.0 Command: F:\biocbuild\bbs-3.17-bioc\R\bin\R.exe CMD INSTALL SigsPack StartedAt: 2023-10-15 16:21:09 -0400 (Sun, 15 Oct 2023) EndedAt: 2023-10-15 16:21:14 -0400 (Sun, 15 Oct 2023) EllapsedTime: 4.6 seconds RetCode: 0 Status: OK