Package: SigFuge Version: 1.38.0 Command: /Library/Frameworks/R.framework/Resources/bin/R CMD check --install=check:SigFuge.install-out.txt --library=/Library/Frameworks/R.framework/Resources/library --no-vignettes --timings SigFuge_1.38.0.tar.gz StartedAt: 2023-10-16 07:08:03 -0400 (Mon, 16 Oct 2023) EndedAt: 2023-10-16 07:12:43 -0400 (Mon, 16 Oct 2023) EllapsedTime: 279.7 seconds RetCode: 0 Status: OK CheckDir: SigFuge.Rcheck Warnings: 0