Package: SigFuge Version: 1.38.0 Command: /Library/Frameworks/R.framework/Resources/bin/R CMD build --keep-empty-dirs --no-resave-data SigFuge StartedAt: 2023-10-15 21:20:06 -0400 (Sun, 15 Oct 2023) EndedAt: 2023-10-15 21:22:49 -0400 (Sun, 15 Oct 2023) EllapsedTime: 162.9 seconds RetCode: 0 Status: OK PackageFile: SigFuge_1.38.0.tar.gz PackageFileSize: 1.458 MiB