Package: SharedObject Version: 1.14.1 Command: /Library/Frameworks/R.framework/Resources/bin/R CMD INSTALL SharedObject StartedAt: 2023-10-15 15:05:19 -0400 (Sun, 15 Oct 2023) EndedAt: 2023-10-15 15:06:50 -0400 (Sun, 15 Oct 2023) EllapsedTime: 90.6 seconds RetCode: 0 Status: OK