Package: SharedObject Version: 1.14.1 Command: /Library/Frameworks/R.framework/Resources/bin/R CMD build --keep-empty-dirs --no-resave-data SharedObject StartedAt: 2023-10-15 21:18:07 -0400 (Sun, 15 Oct 2023) EndedAt: 2023-10-15 21:20:44 -0400 (Sun, 15 Oct 2023) EllapsedTime: 157.1 seconds RetCode: 0 Status: OK PackageFile: SharedObject_1.14.1.tar.gz PackageFileSize: 1.874 MiB