Package: SharedObject Version: 1.14.1 Command: rm -rf SharedObject.buildbin-libdir && mkdir SharedObject.buildbin-libdir && /Users/biocbuild/BBS/utils/build-universal.sh SharedObject_1.14.1.tar.gz /Library/Frameworks/R.framework/Resources/bin/R SharedObject.buildbin-libdir StartedAt: 2023-10-16 10:13:17 -0400 (Mon, 16 Oct 2023) EndedAt: 2023-10-16 10:15:45 -0400 (Mon, 16 Oct 2023) EllapsedTime: 148.0 seconds RetCode: 0 Status: OK PackageFile: SharedObject_1.14.1.tgz PackageFileSize: 1.976 MiB