Package: SeqVarTools Version: 1.38.0 Command: F:\biocbuild\bbs-3.17-bioc\R\bin\R.exe CMD INSTALL SeqVarTools StartedAt: 2023-10-15 16:40:09 -0400 (Sun, 15 Oct 2023) EndedAt: 2023-10-15 16:40:50 -0400 (Sun, 15 Oct 2023) EllapsedTime: 41.3 seconds RetCode: 0 Status: OK