Package: SeqVarTools Version: 1.38.0 Command: rm -rf SeqVarTools.buildbin-libdir && mkdir SeqVarTools.buildbin-libdir && F:\biocbuild\bbs-3.17-bioc\R\bin\R.exe CMD INSTALL --build --library=SeqVarTools.buildbin-libdir SeqVarTools_1.38.0.tar.gz StartedAt: 2023-10-16 09:31:53 -0400 (Mon, 16 Oct 2023) EndedAt: 2023-10-16 09:32:31 -0400 (Mon, 16 Oct 2023) EllapsedTime: 37.4 seconds RetCode: 0 Status: OK PackageFile: SeqVarTools_1.38.0.zip PackageFileSize: 1.436 MiB