Package: SeqVarTools Version: 1.38.0 Command: /home/biocbuild/bbs-3.17-bioc/R/bin/R CMD build --keep-empty-dirs --no-resave-data SeqVarTools StartedAt: 2023-10-15 18:31:22 -0400 (Sun, 15 Oct 2023) EndedAt: 2023-10-15 18:32:11 -0400 (Sun, 15 Oct 2023) EllapsedTime: 49.1 seconds RetCode: 0 Status: OK PackageFile: SeqVarTools_1.38.0.tar.gz PackageFileSize: 1001 KiB