Package: SeqVarTools Version: 1.38.0 Command: /Library/Frameworks/R.framework/Resources/bin/R CMD build --keep-empty-dirs --no-resave-data SeqVarTools StartedAt: 2023-10-15 21:17:04 -0400 (Sun, 15 Oct 2023) EndedAt: 2023-10-15 21:20:06 -0400 (Sun, 15 Oct 2023) EllapsedTime: 182.4 seconds RetCode: 0 Status: OK PackageFile: SeqVarTools_1.38.0.tar.gz PackageFileSize: 1000 KiB