Package: SeqVarTools Version: 1.38.0 Command: rm -rf SeqVarTools.buildbin-libdir && mkdir SeqVarTools.buildbin-libdir && /Users/biocbuild/BBS/utils/build-universal.sh SeqVarTools_1.38.0.tar.gz /Library/Frameworks/R.framework/Resources/bin/R SeqVarTools.buildbin-libdir StartedAt: 2023-10-16 10:12:56 -0400 (Mon, 16 Oct 2023) EndedAt: 2023-10-16 10:14:19 -0400 (Mon, 16 Oct 2023) EllapsedTime: 82.7 seconds RetCode: 0 Status: OK PackageFile: SeqVarTools_1.38.0.tgz PackageFileSize: 1.421 MiB