Package: SeqGSEA Version: 1.40.0 Command: F:\biocbuild\bbs-3.17-bioc\R\bin\R.exe CMD INSTALL SeqGSEA StartedAt: 2023-10-15 16:18:18 -0400 (Sun, 15 Oct 2023) EndedAt: 2023-10-15 16:19:00 -0400 (Sun, 15 Oct 2023) EllapsedTime: 42.3 seconds RetCode: 0 Status: OK